BEGIN:VCALENDAR
VERSION:2.0
PRODID:Events Booking
BEGIN:VEVENT
UID:69ea3c9077979
SUMMARY:AFTER-WORK     
DESCRIPTION:Participez à notre afterwork totalement en anglais&nbsp\;!
 V
 enez vous détendre après les cours\, profiter d’un moment agréable\, 
 discuter\, rire et passer une soirée légère dans une ambiance convivial
 e.
 Une pause bienvenue pour changer d’air et partager un bon moment en
 tre stagiaires de tous les niveaux.
 Nous serons ravis de vous y retrouve
 r !
LOCATION:18 rue de Montmorency  34200 Sète
DTSTART:20260604T160000Z
DTEND:20260604T173000Z
DTSTAMP:20260220T143044Z
ORGANIZER;CN=Caroline:MAILTO:crosburger@uneautrelangue.com
GEO:43.40683;3.694318
X-APPLE-STRUCTURED-LOCATION;VALUE=URI;X-ADDRESS=18 rue de Montmorency  3420
 0 Sète;X-APPLE-RADIUS=72;X-TITLE=Sète:43.40683;3.694318
END:VEVENT
END:VCALENDAR