BEGIN:VCALENDAR
VERSION:2.0
PRODID:Events Booking
BEGIN:VEVENT
UID:69ea515632065
SUMMARY:Visite guidée en anglais - Les Baux de Provence
DESCRIPTION:Le village des Baux de Provence\, situé au coeur des Alpilles 
 est un must de la Provence !
LOCATION:69\, boulevard Talabot 30000 Nîmes
DTSTART:20260620T080000Z
DTEND:20260620T100000Z
DTSTAMP:20260219T094839Z
ORGANIZER;CN=Caroline:MAILTO:crosburger@uneautrelangue.com
GEO:43.840542;4.373194
X-APPLE-STRUCTURED-LOCATION;VALUE=URI;X-ADDRESS=69\, boulevard Talabot 3000
 0 Nîmes;X-APPLE-RADIUS=72;X-TITLE=Nîmes:43.840542;4.373194
END:VEVENT
END:VCALENDAR