BEGIN:VCALENDAR
VERSION:2.0
PRODID:Events Booking
BEGIN:VEVENT
UID:69ea7a05a2f2c
SUMMARY:ACTIVITÉ – ATELIER PHOTO – ANGLAIS
DESCRIPTION:
LOCATION:38 quai Gailleton 69002 Lyon
DTSTART:20260408T160000Z
DTEND:20260408T180000Z
DTSTAMP:20260327T100038Z
ORGANIZER;CN=Caroline:MAILTO:crosburger@uneautrelangue.com
GEO:45.75126;4.83212
X-APPLE-STRUCTURED-LOCATION;VALUE=URI;X-ADDRESS=38 quai Gailleton 69002 Lyo
 n;X-APPLE-RADIUS=72;X-TITLE=Lyon:45.75126;4.83212
END:VEVENT
END:VCALENDAR