BEGIN:VCALENDAR
VERSION:2.0
PRODID:Events Booking
BEGIN:VEVENT
UID:69ea79fcadaea
SUMMARY:AFTERWORK – COLLECTIF D’ESPAGNOL 
DESCRIPTION:
LOCATION:38 quai Gailleton 69002 Lyon
DTSTART:20260519T160000Z
DTEND:20260519T180000Z
DTSTAMP:20260327T101803Z
ORGANIZER;CN=Caroline:MAILTO:crosburger@uneautrelangue.com
GEO:45.75126;4.83212
X-APPLE-STRUCTURED-LOCATION;VALUE=URI;X-ADDRESS=38 quai Gailleton 69002 Lyo
 n;X-APPLE-RADIUS=72;X-TITLE=Lyon:45.75126;4.83212
END:VEVENT
END:VCALENDAR