BEGIN:VCALENDAR
VERSION:2.0
PRODID:Events Booking
BEGIN:VEVENT
UID:69ea7c07cf7d3
SUMMARY:Visite guidée en anglais - Distillerie Bel Air à Saint-Just-et-Va
 cquières
DESCRIPTION:Plongez dans une visite tout en anglais au cœur de la distille
 rie artisanale Bel Air\, entre garrigues et Cévennes.
 Venez découvrir 
 leurs méthodes artisanales et profitez d’une expérience unique autour 
 des plantes aromatiques en plongeant dans l’univers des hydrolats et des
  huiles essentielles bio\, soigneusement distillées au cœur de cette dis
 tillerie artisanale\, ou sélectionnées à travers le monde.
 Chaque gou
 tte incarne la pureté et la richesse des plantes cultivées selon des mé
 thodes biologiques\, respectueuses de la nature.
LOCATION:19 avenue du maréchal Leclerc 13200 Arles
DTSTART:20250621T080000Z
DTEND:20250621T100000Z
DTSTAMP:20260423T220735Z
ORGANIZER;CN=Caroline:MAILTO:crosburger@uneautrelangue.com
GEO:43.674438;4.62517
X-APPLE-STRUCTURED-LOCATION;VALUE=URI;X-ADDRESS=19 avenue du maréchal Lecl
 erc 13200 Arles;X-APPLE-RADIUS=72;X-TITLE=Arles:43.674438;4.62517
END:VEVENT
END:VCALENDAR