BEGIN:VCALENDAR
VERSION:2.0
PRODID:Events Booking
BEGIN:VEVENT
UID:69ea7c351c54e
SUMMARY:Visite guidée en anglais - Rencontres de la photo d'Arles
DESCRIPTION:Visite encadrée\, tout en anglais\, des expositions photograph
 iques des Rencontres d’Arles.
 Ces visites sur mesure permettent une ap
 proche sensible\, technique et interactive de ce festival annuel et intern
 ational de la photographie. Ce festival de photographie a été fondé en 
 1970 par le photographe arlésien Lucien Clergue\, l’écrivain Michel To
 urnier et l’historien Jean-Maurice Rouquette. Souvent produites en colla
 boration avec des musées et des institutions françaises et étrangères\
 , les expositions présentées dans différents lieux patrimoniaux de la v
 ille font l’objet d’une scénographie.
 Certains sites historiques\, 
 tels que des chapelles du XIIe ou des bâtiments industriels du XIXe\, ne 
 sont ouverts au public que pendant la durée du festival.
LOCATION:19 avenue du maréchal Leclerc 13200 Arles
DTSTART:20250719T080000Z
DTEND:20250719T100000Z
DTSTAMP:20260423T220821Z
ORGANIZER;CN=Caroline:MAILTO:crosburger@uneautrelangue.com
GEO:43.674438;4.62517
X-APPLE-STRUCTURED-LOCATION;VALUE=URI;X-ADDRESS=19 avenue du maréchal Lecl
 erc 13200 Arles;X-APPLE-RADIUS=72;X-TITLE=Arles:43.674438;4.62517
END:VEVENT
END:VCALENDAR