BEGIN:VCALENDAR
VERSION:2.0
PRODID:Events Booking
BEGIN:VEVENT
UID:69ea7be50b8c0
SUMMARY:Visite guidée en anglais - Palais des Papes – Avignon
DESCRIPTION:Visite en anglais du Palais des Papes et de l'exposition de l'a
 rtiste plasticienne Eva Jospin.
 Encore une bonne occasion de découvrir 
 les richesses de notre région\, tout en pratiquant l'anglais !
LOCATION:69\, boulevard Talabot 30000 Nîmes
DTSTART:20231118T090000Z
DTEND:20231118T110000Z
DTSTAMP:20260423T220701Z
ORGANIZER;CN=Caroline:MAILTO:crosburger@uneautrelangue.com
GEO:43.840542;4.373194
X-APPLE-STRUCTURED-LOCATION;VALUE=URI;X-ADDRESS=69\, boulevard Talabot 3000
 0 Nîmes;X-APPLE-RADIUS=72;X-TITLE=Nîmes:43.840542;4.373194
END:VEVENT
END:VCALENDAR