BEGIN:VCALENDAR
VERSION:2.0
PRODID:Events Booking
BEGIN:VEVENT
UID:69ea6817da72e
SUMMARY:Visite guidée en anglais - Mine témoin d'Alès
DESCRIPTION:Visite des 700 mètres de galerie de la Mine Témoin d’Alès
 
 La Mine Témoin d’Alès\, site historique minier unique en France\, es
 t un lieu de mémoire qui plonge les visiteurs dans l’histoire minière 
 cévenole. Ancien centre d’apprentissage\, elle a formé des génératio
 ns de mineurs\, et aujourd’hui\, elle témoigne de l’évolution social
 e et industrielle de la région. Ce site exceptionnel offre une immersion 
 fascinante dans l’univers des mineurs et de leur quotidien\, entre tradi
 tion et histoire.
LOCATION:69\, boulevard Talabot 30000 Nîmes
DTSTART:20260221T090000Z
DTEND:20260221T110000Z
DTSTAMP:20260219T083617Z
ORGANIZER;CN=Caroline:MAILTO:crosburger@uneautrelangue.com
GEO:43.840542;4.373194
X-APPLE-STRUCTURED-LOCATION;VALUE=URI;X-ADDRESS=69\, boulevard Talabot 3000
 0 Nîmes;X-APPLE-RADIUS=72;X-TITLE=Nîmes:43.840542;4.373194
END:VEVENT
END:VCALENDAR