BEGIN:VCALENDAR
VERSION:2.0
PRODID:Events Booking
BEGIN:VEVENT
UID:69ea681e858ef
SUMMARY:Visite guidée en anglais - Musée de la romanité - Nîmes
DESCRIPTION:Découverte du parcours permanent du musée
 Revivez le proces
 sus de romanisation qui s’est opéré au fil des siècles dans la régio
 n de Nîmes : 5000 pièces retracent 25 siècles d’histoire et sont mise
 s en scène avec 65 dispositifs multimédia (projections immersives\, cart
 ographies interactives…).A travers quatre séquences chronologiques\, v
 éritables sas spatio-temporels\, pour parcourir la période gauloise avan
 t la romanité\, la période romaine puis le Moyen Âge\, découvrez le le
 gs de l’Antiquité tel qu’il nous parvient.
LOCATION:69\, boulevard Talabot 30000 Nîmes
DTSTART:20260124T090000Z
DTEND:20260124T110000Z
DTSTAMP:20260219T084739Z
ORGANIZER;CN=Caroline:MAILTO:crosburger@uneautrelangue.com
GEO:43.840542;4.373194
X-APPLE-STRUCTURED-LOCATION;VALUE=URI;X-ADDRESS=69\, boulevard Talabot 3000
 0 Nîmes;X-APPLE-RADIUS=72;X-TITLE=Nîmes:43.840542;4.373194
END:VEVENT
END:VCALENDAR