BEGIN:VCALENDAR
VERSION:2.0
PRODID:Events Booking
BEGIN:VEVENT
UID:69ea67f17486d
SUMMARY:Visite guidée en anglais - Palais des Papes – Avignon
DESCRIPTION:Visite du Palais des Papes\, le plus grand palais gothique du m
 onde.
 Résidence des souverains pontifes du XIVe siècle\, classée au P
 atrimoine mondial de l’UNESCO\, il constitue le plus important palais go
 thique du monde (15 000 m2 de plancher\, soit en volume 4 cathédrales got
 hiques).
 La visite présente aux visiteurs plus de vingt lieux\, notamme
 nt les appartements privés du pape et leurs fabuleux décors de fresques 
 exécutés par l’artiste italien Matteo Giovannetti.
LOCATION:69\, boulevard Talabot 30000 Nîmes
DTSTART:20260321T090000Z
DTEND:20260321T110000Z
DTSTAMP:20260219T085529Z
ORGANIZER;CN=Caroline:MAILTO:crosburger@uneautrelangue.com
GEO:43.840542;4.373194
X-APPLE-STRUCTURED-LOCATION;VALUE=URI;X-ADDRESS=69\, boulevard Talabot 3000
 0 Nîmes;X-APPLE-RADIUS=72;X-TITLE=Nîmes:43.840542;4.373194
END:VEVENT
END:VCALENDAR