BEGIN:VCALENDAR
VERSION:2.0
PRODID:Events Booking
BEGIN:VEVENT
UID:69ea7c0c86457
SUMMARY:Visite guidée en anglais - Sur les pas de Van Gogh – Arles
DESCRIPTION:Plongez dans l’histoire du célèbre peintre Vincent Van Gogh
 \, dont la créativité atteignît son apogée au cours de&nbsp\;son séjo
 ur à Arles entre 1888 et 1889.
 Il y peignit environ 200 toiles\, dont s
 es plus célèbres : Le café la nuit\, le pont de Langlois\, Nuit étoil
 ée sur le Rhône…
 Ce parcours vous entraînera dans les pas de l’ar
 tiste et dans des lieux qu’il affectionnait tels que le jardin des Lices
 \, la place du forum\, l’amphithéâtre\, le pont de Trinquetaille… o
 ù plane encore la présence immortelle et tourmentée du peintre.
LOCATION:69\, boulevard Talabot 30000 Nîmes
DTSTART:20260418T080000Z
DTEND:20260418T100000Z
DTSTAMP:20260219T091052Z
ORGANIZER;CN=Caroline:MAILTO:crosburger@uneautrelangue.com
GEO:43.840542;4.373194
X-APPLE-STRUCTURED-LOCATION;VALUE=URI;X-ADDRESS=69\, boulevard Talabot 3000
 0 Nîmes;X-APPLE-RADIUS=72;X-TITLE=Nîmes:43.840542;4.373194
END:VEVENT
END:VCALENDAR