BEGIN:VCALENDAR
VERSION:2.0
PRODID:Events Booking
BEGIN:VEVENT
UID:69ea7b88dca81
SUMMARY:Visite guidée - Tour Luma
DESCRIPTION:
LOCATION:69\, boulevard Talabot 30000 Nîmes
DTSTART:20230318T090000Z
DTEND:20230318T110000Z
DTSTAMP:20260423T220528Z
ORGANIZER;CN=Caroline:MAILTO:crosburger@uneautrelangue.com
GEO:43.840542;4.373194
X-APPLE-STRUCTURED-LOCATION;VALUE=URI;X-ADDRESS=69\, boulevard Talabot 3000
 0 Nîmes;X-APPLE-RADIUS=72;X-TITLE=Nîmes:43.840542;4.373194
END:VEVENT
END:VCALENDAR